BEGIN:VCALENDAR
VERSION:2.0
PRODID:-//Metlakata Indian Community - ECPv6.15.20//NONSGML v1.0//EN
CALSCALE:GREGORIAN
METHOD:PUBLISH
X-WR-CALNAME:Metlakata Indian Community
X-ORIGINAL-URL:https://www.metlakatla.com
X-WR-CALDESC:Events for Metlakata Indian Community
REFRESH-INTERVAL;VALUE=DURATION:PT1H
X-Robots-Tag:noindex
X-PUBLISHED-TTL:PT1H
BEGIN:VTIMEZONE
TZID:America/Metlakatla
BEGIN:DAYLIGHT
TZOFFSETFROM:-0900
TZOFFSETTO:-0800
TZNAME:AKDT
DTSTART:20240310T110000
END:DAYLIGHT
BEGIN:STANDARD
TZOFFSETFROM:-0800
TZOFFSETTO:-0900
TZNAME:AKST
DTSTART:20241103T100000
END:STANDARD
BEGIN:DAYLIGHT
TZOFFSETFROM:-0900
TZOFFSETTO:-0800
TZNAME:AKDT
DTSTART:20250309T110000
END:DAYLIGHT
BEGIN:STANDARD
TZOFFSETFROM:-0800
TZOFFSETTO:-0900
TZNAME:AKST
DTSTART:20251102T100000
END:STANDARD
BEGIN:DAYLIGHT
TZOFFSETFROM:-0900
TZOFFSETTO:-0800
TZNAME:AKDT
DTSTART:20260308T110000
END:DAYLIGHT
BEGIN:STANDARD
TZOFFSETFROM:-0800
TZOFFSETTO:-0900
TZNAME:AKST
DTSTART:20261101T100000
END:STANDARD
END:VTIMEZONE
BEGIN:VEVENT
DTSTART;TZID=America/Metlakatla:20250825T103000
DTEND;TZID=America/Metlakatla:20250825T163000
DTSTAMP:20260423T022841
CREATED:20250814T140441Z
LAST-MODIFIED:20250814T141417Z
UID:726-1756117800-1756139400@www.metlakatla.com
SUMMARY:Elder Care Program Grand Opening
DESCRIPTION:The Annette Island Service Unity is pleased to announce the grand opening of its Elder Care Program. Doors open at 10:30 AM.
URL:https://www.metlakatla.com/event/elder-care-program-grand-opening/
LOCATION:Annette Island Service Unit\, 563 Brendible St\, Metlakatla\, AK\, 99926\, United States
ATTACH;FMTTYPE=image/png:https://www.metlakatla.com/wp-content/uploads/2025/08/352507072_1464140717745866_6727607547982026856_n.png
END:VEVENT
END:VCALENDAR